BEGIN:VCALENDAR
VERSION:2.0
PRODID:-//www.marudot.com//iCal Event Maker
X-WR-CALNAME:coco
CALSCALE:GREGORIAN
BEGIN:VTIMEZONE
TZID:Europe/Berlin
TZURL:http://tzurl.org/zoneinfo-outlook/Europe/Berlin
X-LIC-LOCATION:Europe/Berlin
BEGIN:DAYLIGHT
TZOFFSETFROM:+0100
TZOFFSETTO:+0200
TZNAME:CEST
DTSTART:19700329T020000
RRULE:FREQ=YEARLY;BYMONTH=3;BYDAY=-1SU
END:DAYLIGHT
BEGIN:STANDARD
TZOFFSETFROM:+0200
TZOFFSETTO:+0100
TZNAME:CET
DTSTART:19701025T030000
RRULE:FREQ=YEARLY;BYMONTH=10;BYDAY=-1SU
END:STANDARD
END:VTIMEZONE
BEGIN:VEVENT
DTSTAMP:20150316T191156Z
UID:20150316T191156Z-1777617723@marudot.com
DTSTART;TZID="Europe/Berlin":20150316T120000
DTEND;TZID="Europe/Berlin":20150316T130000
SUMMARY:Reservation
DESCRIPTION:blabla
LOCATION:mon bureau
BEGIN:VALARM
ACTION:DISPLAY
DESCRIPTION:Reservation
TRIGGER:-P1D
END:VALARM
END:VEVENT
END:VCALENDAR